Package: RedeR Version: 3.2.0 Command: F:\biocbuild\bbs-3.20-bioc\R\bin\R.exe CMD INSTALL RedeR StartedAt: 2025-01-30 15:30:28 -0500 (Thu, 30 Jan 2025) EndedAt: 2025-01-30 15:31:23 -0500 (Thu, 30 Jan 2025) EllapsedTime: 55.7 seconds RetCode: 0 Status: OK