Package: RedeR Version: 3.2.0 Command: F:\biocbuild\bbs-3.20-bioc\R\bin\R.exe CMD check --no-multiarch --install=check:RedeR.install-out.txt --library=F:\biocbuild\bbs-3.20-bioc\R\library --no-vignettes --timings RedeR_3.2.0.tar.gz StartedAt: 2025-01-31 05:34:39 -0500 (Fri, 31 Jan 2025) EndedAt: 2025-01-31 05:35:40 -0500 (Fri, 31 Jan 2025) EllapsedTime: 61.7 seconds RetCode: 0 Status: OK CheckDir: RedeR.Rcheck Warnings: 0