Package: RedeR Version: 3.2.0 Command: rm -rf RedeR.buildbin-libdir && mkdir RedeR.buildbin-libdir && F:\biocbuild\bbs-3.20-bioc\R\bin\R.exe CMD INSTALL --build --library=RedeR.buildbin-libdir RedeR_3.2.0.tar.gz StartedAt: 2025-01-31 09:24:45 -0500 (Fri, 31 Jan 2025) EndedAt: 2025-01-31 09:25:26 -0500 (Fri, 31 Jan 2025) EllapsedTime: 40.7 seconds RetCode: 0 Status: OK PackageFile: RedeR_3.2.0.zip PackageFileSize: 3.631 MiB