Package: RedeR Version: 3.2.0 Command: /Library/Frameworks/R.framework/Resources/bin/R CMD build --keep-empty-dirs --no-resave-data RedeR StartedAt: 2025-01-30 22:10:32 -0500 (Thu, 30 Jan 2025) EndedAt: 2025-01-30 22:11:03 -0500 (Thu, 30 Jan 2025) EllapsedTime: 31.1 seconds RetCode: 0 Status: OK PackageFile: RedeR_3.2.0.tar.gz PackageFileSize: 4.347 MiB