Package: RedeR Version: 3.2.0 Command: /Library/Frameworks/R.framework/Resources/bin/R CMD check --install=check:RedeR.install-out.txt --library=/Library/Frameworks/R.framework/Resources/library --no-vignettes --timings RedeR_3.2.0.tar.gz StartedAt: 2025-04-02 05:42:43 -0400 (Wed, 02 Apr 2025) EndedAt: 2025-04-02 05:43:24 -0400 (Wed, 02 Apr 2025) EllapsedTime: 41.2 seconds RetCode: 0 Status: OK CheckDir: RedeR.Rcheck Warnings: 0