Package: ReadqPCR Version: 1.51.0 Command: rm -rf ReadqPCR.buildbin-libdir && mkdir ReadqPCR.buildbin-libdir && F:\biocbuild\bbs-3.20-bioc\R\bin\R.exe CMD INSTALL --build --library=ReadqPCR.buildbin-libdir ReadqPCR_1.51.0.tar.gz StartedAt: 2024-06-10 14:45:33 -0400 (Mon, 10 Jun 2024) EndedAt: 2024-06-10 14:46:13 -0400 (Mon, 10 Jun 2024) EllapsedTime: 40.7 seconds RetCode: 0 Status: OK PackageFile: ReadqPCR_1.51.0.zip PackageFileSize: 461.3 KiB