Package: ReadqPCR Version: 1.52.0 Command: /home/biocbuild/bbs-3.20-bioc/R/bin/R CMD check --install=check:ReadqPCR.install-out.txt --library=/home/biocbuild/bbs-3.20-bioc/R/site-library --timings ReadqPCR_1.52.0.tar.gz StartedAt: 2025-04-01 01:23:58 -0400 (Tue, 01 Apr 2025) EndedAt: 2025-04-01 01:24:25 -0400 (Tue, 01 Apr 2025) EllapsedTime: 27.0 seconds RetCode: 0 Status: OK CheckDir: ReadqPCR.Rcheck Warnings: 0