Package: ReadqPCR Version: 1.52.0 Maintainer: James Perkins MaintainerEmail: jimrperkins at gmail.com git_url: https://git.bioconductor.org/packages/ReadqPCR git_branch: RELEASE_3_20 git_last_commit: d7ac6c2 git_last_commit_date: 2024-10-29 09:37:32 -0500 (Tue, 29 Oct 2024)