Package: ReactomePA Version: 1.50.0 Command: /home/biocbuild/R/R/bin/R CMD check --install=check:ReactomePA.install-out.txt --library=/home/biocbuild/R/R/site-library --no-vignettes --timings ReactomePA_1.50.0.tar.gz StartedAt: 2025-01-28 10:26:37 -0000 (Tue, 28 Jan 2025) EndedAt: 2025-01-28 10:30:34 -0000 (Tue, 28 Jan 2025) EllapsedTime: 237.3 seconds RetCode: 0 Status: OK CheckDir: ReactomePA.Rcheck Warnings: 0