Package: ReactomePA Version: 1.50.0 Command: /home/biocbuild/bbs-3.20-bioc/R/bin/R CMD INSTALL ReactomePA StartedAt: 2025-01-27 16:36:10 -0500 (Mon, 27 Jan 2025) EndedAt: 2025-01-27 16:36:35 -0500 (Mon, 27 Jan 2025) EllapsedTime: 24.8 seconds RetCode: 0 Status: OK