Package: ReactomePA Version: 1.50.0 Command: /home/biocbuild/bbs-3.20-bioc/R/bin/R CMD build --keep-empty-dirs --no-resave-data --md5 ReactomePA StartedAt: 2025-01-27 19:41:23 -0500 (Mon, 27 Jan 2025) EndedAt: 2025-01-27 19:41:52 -0500 (Mon, 27 Jan 2025) EllapsedTime: 29.1 seconds RetCode: 0 Status: OK PackageFile: ReactomePA_1.50.0.tar.gz PackageFileSize: 58.1 KiB