Package: ReactomePA Version: 1.50.0 Command: /Library/Frameworks/R.framework/Resources/bin/R CMD build --keep-empty-dirs --no-resave-data ReactomePA StartedAt: 2024-11-08 18:44:57 -0500 (Fri, 08 Nov 2024) EndedAt: 2024-11-08 18:45:09 -0500 (Fri, 08 Nov 2024) EllapsedTime: 12.1 seconds RetCode: 0 Status: OK PackageFile: ReactomePA_1.50.0.tar.gz PackageFileSize: 57.18 KiB