Package: ReactomePA Version: 1.50.0 Command: rm -rf ReactomePA.buildbin-libdir && mkdir ReactomePA.buildbin-libdir && /Users/biocbuild/BBS/utils/build-universal.sh ReactomePA_1.50.0.tar.gz /Library/Frameworks/R.framework/Resources/bin/R ReactomePA.buildbin-libdir StartedAt: 2025-01-29 16:07:28 -0500 (Wed, 29 Jan 2025) EndedAt: 2025-01-29 16:07:56 -0500 (Wed, 29 Jan 2025) EllapsedTime: 28.3 seconds RetCode: 0 Status: OK PackageFile: ReactomePA_1.50.0.tgz PackageFileSize: 91.95 KiB