Package: ReactomeContentService4R Version: 1.14.0 Command: /home/biocbuild/R/R/bin/R CMD build --keep-empty-dirs --no-resave-data ReactomeContentService4R StartedAt: 2025-02-04 02:09:27 -0000 (Tue, 04 Feb 2025) EndedAt: 2025-02-04 02:10:27 -0000 (Tue, 04 Feb 2025) EllapsedTime: 60.1 seconds RetCode: 0 Status: OK PackageFile: ReactomeContentService4R_1.14.0.tar.gz PackageFileSize: 2.351 MiB