Package: ReactomeContentService4R Version: 1.14.0 Command: /Library/Frameworks/R.framework/Resources/bin/R CMD check --install=check:ReactomeContentService4R.install-out.txt --library=/Library/Frameworks/R.framework/Resources/library --no-vignettes --timings ReactomeContentService4R_1.14.0.tar.gz StartedAt: 2025-02-04 08:40:12 -0500 (Tue, 04 Feb 2025) EndedAt: 2025-02-04 08:41:08 -0500 (Tue, 04 Feb 2025) EllapsedTime: 55.9 seconds RetCode: 1 Status: ERROR CheckDir: ReactomeContentService4R.Rcheck Warnings: NA