Package: ReUseData Version: 1.6.0 Command: /home/biocbuild/R/R/bin/R CMD INSTALL ReUseData StartedAt: 2025-03-31 21:11:14 -0000 (Mon, 31 Mar 2025) EndedAt: 2025-03-31 21:11:33 -0000 (Mon, 31 Mar 2025) EllapsedTime: 19.3 seconds RetCode: 0 Status: OK