Package: ReUseData Version: 1.6.0 Command: /Library/Frameworks/R.framework/Resources/bin/R CMD check --install=check:ReUseData.install-out.txt --library=/Library/Frameworks/R.framework/Resources/library --no-vignettes --timings ReUseData_1.6.0.tar.gz StartedAt: 2025-01-28 09:00:48 -0500 (Tue, 28 Jan 2025) EndedAt: 2025-01-28 09:05:17 -0500 (Tue, 28 Jan 2025) EllapsedTime: 268.9 seconds RetCode: 0 Status: OK CheckDir: ReUseData.Rcheck Warnings: 0