Package: Rdisop Version: 1.66.0 Command: /home/biocbuild/R/R/bin/R CMD build --keep-empty-dirs --no-resave-data Rdisop StartedAt: 2025-02-04 02:09:14 -0000 (Tue, 04 Feb 2025) EndedAt: 2025-02-04 02:10:04 -0000 (Tue, 04 Feb 2025) EllapsedTime: 50.1 seconds RetCode: 0 Status: OK PackageFile: Rdisop_1.66.0.tar.gz PackageFileSize: 690 KiB