Package: Rdisop Version: 1.66.0 Command: F:\biocbuild\bbs-3.20-bioc\R\bin\R.exe CMD INSTALL Rdisop StartedAt: 2025-02-13 15:22:32 -0500 (Thu, 13 Feb 2025) EndedAt: 2025-02-13 15:23:42 -0500 (Thu, 13 Feb 2025) EllapsedTime: 70.0 seconds RetCode: 0 Status: OK