Package: Rdisop Version: 1.66.0 Command: F:\biocbuild\bbs-3.20-bioc\R\bin\R.exe CMD check --no-multiarch --install=check:Rdisop.install-out.txt --library=F:\biocbuild\bbs-3.20-bioc\R\library --no-vignettes --timings Rdisop_1.66.0.tar.gz StartedAt: 2025-02-14 04:54:31 -0500 (Fri, 14 Feb 2025) EndedAt: 2025-02-14 04:55:37 -0500 (Fri, 14 Feb 2025) EllapsedTime: 66.4 seconds RetCode: 0 Status: OK CheckDir: Rdisop.Rcheck Warnings: 0