Package: Rdisop Version: 1.66.0 Command: chmod a+r Rdisop -R && F:\biocbuild\bbs-3.20-bioc\R\bin\R.exe CMD build --keep-empty-dirs --no-resave-data Rdisop StartedAt: 2025-02-13 21:12:15 -0500 (Thu, 13 Feb 2025) EndedAt: 2025-02-13 21:13:49 -0500 (Thu, 13 Feb 2025) EllapsedTime: 93.2 seconds RetCode: 0 Status: OK PackageFile: Rdisop_1.66.0.tar.gz PackageFileSize: 686.1 KiB