Package: Rdisop Version: 1.66.0 Command: /home/biocbuild/bbs-3.20-bioc/R/bin/R CMD INSTALL Rdisop StartedAt: 2025-02-10 15:12:59 -0500 (Mon, 10 Feb 2025) EndedAt: 2025-02-10 15:13:39 -0500 (Mon, 10 Feb 2025) EllapsedTime: 40.4 seconds RetCode: 0 Status: OK