Package: Rdisop Version: 1.66.0 Command: /Library/Frameworks/R.framework/Resources/bin/R CMD build --keep-empty-dirs --no-resave-data Rdisop StartedAt: 2025-02-10 21:38:45 -0500 (Mon, 10 Feb 2025) EndedAt: 2025-02-10 21:40:07 -0500 (Mon, 10 Feb 2025) EllapsedTime: 82.6 seconds RetCode: 0 Status: OK PackageFile: Rdisop_1.66.0.tar.gz PackageFileSize: 696.4 KiB