Package: Rdisop Version: 1.66.0 Command: /Library/Frameworks/R.framework/Resources/bin/R CMD check --install=check:Rdisop.install-out.txt --library=/Library/Frameworks/R.framework/Resources/library --no-vignettes --timings Rdisop_1.66.0.tar.gz StartedAt: 2025-02-12 06:19:07 -0500 (Wed, 12 Feb 2025) EndedAt: 2025-02-12 06:19:37 -0500 (Wed, 12 Feb 2025) EllapsedTime: 29.4 seconds RetCode: 0 Status: OK CheckDir: Rdisop.Rcheck Warnings: 0