Package: Rdisop Version: 1.66.0 Command: /Library/Frameworks/R.framework/Resources/bin/R CMD build --keep-empty-dirs --no-resave-data Rdisop StartedAt: 2025-02-11 06:19:24 -0500 (Tue, 11 Feb 2025) EndedAt: 2025-02-11 06:20:04 -0500 (Tue, 11 Feb 2025) EllapsedTime: 40.4 seconds RetCode: 0 Status: OK PackageFile: Rdisop_1.66.0.tar.gz PackageFileSize: 696.6 KiB