Package: Rdisop Version: 1.66.0 Command: rm -rf Rdisop.buildbin-libdir && mkdir Rdisop.buildbin-libdir && /Users/biocbuild/BBS/utils/build-universal.sh Rdisop_1.66.0.tar.gz /Library/Frameworks/R.framework/Resources/bin/R Rdisop.buildbin-libdir StartedAt: 2025-02-12 16:33:53 -0500 (Wed, 12 Feb 2025) EndedAt: 2025-02-12 16:34:32 -0500 (Wed, 12 Feb 2025) EllapsedTime: 38.5 seconds RetCode: 0 Status: OK PackageFile: Rdisop_1.66.0.tgz PackageFileSize: 195 KiB