Package: RcwlPipelines Version: 1.22.0 Command: /home/biocbuild/R/R/bin/R CMD build --keep-empty-dirs --no-resave-data RcwlPipelines StartedAt: 2025-01-28 02:39:41 -0000 (Tue, 28 Jan 2025) EndedAt: 2025-01-28 02:40:28 -0000 (Tue, 28 Jan 2025) EllapsedTime: 47.0 seconds RetCode: 0 Status: OK PackageFile: RcwlPipelines_1.22.0.tar.gz PackageFileSize: 1.169 MiB