Package: RcwlPipelines Version: 1.22.0 Command: /home/biocbuild/bbs-3.20-bioc/R/bin/R CMD build --keep-empty-dirs --no-resave-data --md5 RcwlPipelines StartedAt: 2025-02-03 18:55:14 -0500 (Mon, 03 Feb 2025) EndedAt: 2025-02-03 18:55:48 -0500 (Mon, 03 Feb 2025) EllapsedTime: 34.1 seconds RetCode: 0 Status: OK PackageFile: RcwlPipelines_1.22.0.tar.gz PackageFileSize: 877.9 KiB