Package: RcwlPipelines Version: 1.22.0 Command: rm -rf RcwlPipelines.buildbin-libdir && mkdir RcwlPipelines.buildbin-libdir && /Users/biocbuild/BBS/utils/build-universal.sh RcwlPipelines_1.22.0.tar.gz /Library/Frameworks/R.framework/Resources/bin/R RcwlPipelines.buildbin-libdir StartedAt: 2025-01-29 16:07:07 -0500 (Wed, 29 Jan 2025) EndedAt: 2025-01-29 16:07:25 -0500 (Wed, 29 Jan 2025) EllapsedTime: 18.1 seconds RetCode: 0 Status: OK PackageFile: RcwlPipelines_1.22.0.tgz PackageFileSize: 1.039 MiB