Package: Rcwl Version: 1.22.0 Command: /home/biocbuild/R/R/bin/R CMD build --keep-empty-dirs --no-resave-data Rcwl StartedAt: 2025-01-28 02:39:39 -0000 (Tue, 28 Jan 2025) EndedAt: 2025-01-28 02:40:27 -0000 (Tue, 28 Jan 2025) EllapsedTime: 48.0 seconds RetCode: 0 Status: OK PackageFile: Rcwl_1.22.0.tar.gz PackageFileSize: 1.336 MiB