Package: Rcpi Version: 1.42.0 Command: /Library/Frameworks/R.framework/Resources/bin/R CMD check --install=check:Rcpi.install-out.txt --library=/Library/Frameworks/R.framework/Resources/library --no-vignettes --timings Rcpi_1.42.0.tar.gz StartedAt: 2025-01-29 05:47:52 -0500 (Wed, 29 Jan 2025) EndedAt: 2025-01-29 05:50:09 -0500 (Wed, 29 Jan 2025) EllapsedTime: 137.4 seconds RetCode: 0 Status: OK CheckDir: Rcpi.Rcheck Warnings: 0