Package: Rcollectl Version: 1.6.0 Command: /home/biocbuild/R/R/bin/R CMD build --keep-empty-dirs --no-resave-data Rcollectl StartedAt: 2025-01-28 02:38:42 -0000 (Tue, 28 Jan 2025) EndedAt: 2025-01-28 02:39:03 -0000 (Tue, 28 Jan 2025) EllapsedTime: 21.0 seconds RetCode: 1 Status: ERROR PackageFile: None PackageFileSize: NA