Package: RcisTarget Version: 1.26.0 Command: rm -rf RcisTarget.buildbin-libdir && mkdir RcisTarget.buildbin-libdir && /Users/biocbuild/BBS/utils/build-universal.sh RcisTarget_1.26.0.tar.gz /Library/Frameworks/R.framework/Resources/bin/R RcisTarget.buildbin-libdir StartedAt: 2025-02-05 17:19:04 -0500 (Wed, 05 Feb 2025) EndedAt: 2025-02-05 17:19:48 -0500 (Wed, 05 Feb 2025) EllapsedTime: 44.4 seconds RetCode: 0 Status: OK PackageFile: RcisTarget_1.26.0.tgz PackageFileSize: 13.01 MiB