Package: Rbwa Version: 1.10.0 Command: /Library/Frameworks/R.framework/Resources/bin/R CMD check --install=check:Rbwa.install-out.txt --library=/Library/Frameworks/R.framework/Resources/library --no-vignettes --timings Rbwa_1.10.0.tar.gz StartedAt: 2025-01-29 05:45:34 -0500 (Wed, 29 Jan 2025) EndedAt: 2025-01-29 05:45:57 -0500 (Wed, 29 Jan 2025) EllapsedTime: 23.3 seconds RetCode: 0 Status: WARNINGS CheckDir: Rbwa.Rcheck Warnings: 1