Package: Rbwa Version: 1.10.0 Command: /Library/Frameworks/R.framework/Resources/bin/R CMD build --keep-empty-dirs --no-resave-data Rbwa StartedAt: 2025-01-28 06:07:48 -0500 (Tue, 28 Jan 2025) EndedAt: 2025-01-28 06:08:11 -0500 (Tue, 28 Jan 2025) EllapsedTime: 22.4 seconds RetCode: 0 Status: OK PackageFile: Rbwa_1.10.0.tar.gz PackageFileSize: 651.3 KiB