Package: Rbowtie2 Version: 2.12.3 Command: /Library/Frameworks/R.framework/Resources/bin/R CMD build --keep-empty-dirs --no-resave-data Rbowtie2 StartedAt: 2025-04-01 05:53:27 -0400 (Tue, 01 Apr 2025) EndedAt: 2025-04-01 05:57:15 -0400 (Tue, 01 Apr 2025) EllapsedTime: 228.0 seconds RetCode: 0 Status: OK PackageFile: Rbowtie2_2.12.3.tar.gz PackageFileSize: 1.711 MiB