Package: Rbowtie Version: 1.46.0 Command: /Library/Frameworks/R.framework/Resources/bin/R CMD INSTALL Rbowtie StartedAt: 2025-01-27 15:11:45 -0500 (Mon, 27 Jan 2025) EndedAt: 2025-01-27 15:12:59 -0500 (Mon, 27 Jan 2025) EllapsedTime: 74.5 seconds RetCode: 0 Status: OK