Package: Rbowtie Version: 1.46.0 Command: /Library/Frameworks/R.framework/Resources/bin/R CMD build --keep-empty-dirs --no-resave-data Rbowtie StartedAt: 2025-01-28 06:06:56 -0500 (Tue, 28 Jan 2025) EndedAt: 2025-01-28 06:08:28 -0500 (Tue, 28 Jan 2025) EllapsedTime: 91.7 seconds RetCode: 0 Status: OK PackageFile: Rbowtie_1.46.0.tar.gz PackageFileSize: 4.917 MiB