Package: Rbowtie Version: 1.46.0 Command: rm -rf Rbowtie.buildbin-libdir && mkdir Rbowtie.buildbin-libdir && /Users/biocbuild/BBS/utils/build-universal.sh Rbowtie_1.46.0.tar.gz /Library/Frameworks/R.framework/Resources/bin/R Rbowtie.buildbin-libdir StartedAt: 2025-02-05 17:18:17 -0500 (Wed, 05 Feb 2025) EndedAt: 2025-02-05 17:19:45 -0500 (Wed, 05 Feb 2025) EllapsedTime: 87.5 seconds RetCode: 0 Status: OK PackageFile: Rbowtie_1.46.0.tgz PackageFileSize: 1.184 MiB