Package: Rbec Version: 1.14.0 Command: F:\biocbuild\bbs-3.20-bioc\R\bin\R.exe CMD INSTALL Rbec StartedAt: 2025-01-27 16:32:58 -0500 (Mon, 27 Jan 2025) EndedAt: 2025-01-27 16:33:46 -0500 (Mon, 27 Jan 2025) EllapsedTime: 47.9 seconds RetCode: 0 Status: OK