Package: Rbec Version: 1.14.0 Command: /Library/Frameworks/R.framework/Resources/bin/R CMD check --install=check:Rbec.install-out.txt --library=/Library/Frameworks/R.framework/Resources/library --no-vignettes --timings Rbec_1.14.0.tar.gz StartedAt: 2025-04-01 07:43:15 -0400 (Tue, 01 Apr 2025) EndedAt: 2025-04-01 07:50:56 -0400 (Tue, 01 Apr 2025) EllapsedTime: 461.4 seconds RetCode: 0 Status: OK CheckDir: Rbec.Rcheck Warnings: 0