Package: Rbec Version: 1.14.0 Command: /Library/Frameworks/R.framework/Resources/bin/R CMD INSTALL Rbec StartedAt: 2025-01-27 16:41:53 -0500 (Mon, 27 Jan 2025) EndedAt: 2025-01-27 16:42:02 -0500 (Mon, 27 Jan 2025) EllapsedTime: 8.5 seconds RetCode: 1 Status: ERROR