Package: RbcBook1 Version: 1.74.0 Command: F:\biocbuild\bbs-3.20-bioc\R\bin\R.exe CMD INSTALL RbcBook1 StartedAt: 2025-01-27 15:32:25 -0500 (Mon, 27 Jan 2025) EndedAt: 2025-01-27 15:32:40 -0500 (Mon, 27 Jan 2025) EllapsedTime: 15.0 seconds RetCode: 0 Status: OK