Package: RbcBook1 Version: 1.74.0 Command: chmod a+r RbcBook1 -R && F:\biocbuild\bbs-3.20-bioc\R\bin\R.exe CMD build --keep-empty-dirs --no-resave-data RbcBook1 StartedAt: 2025-03-31 21:18:23 -0400 (Mon, 31 Mar 2025) EndedAt: 2025-03-31 21:18:37 -0400 (Mon, 31 Mar 2025) EllapsedTime: 14.6 seconds RetCode: 0 Status: OK PackageFile: RbcBook1_1.74.0.tar.gz PackageFileSize: 6.393 MiB