Package: RbcBook1 Version: 1.74.0 Command: /home/biocbuild/bbs-3.20-bioc/R/bin/R CMD INSTALL RbcBook1 StartedAt: 2025-01-27 15:58:32 -0500 (Mon, 27 Jan 2025) EndedAt: 2025-01-27 15:58:36 -0500 (Mon, 27 Jan 2025) EllapsedTime: 4.2 seconds RetCode: 0 Status: OK