Package: RbcBook1 Version: 1.74.0 Command: /Library/Frameworks/R.framework/Resources/bin/R CMD INSTALL RbcBook1 StartedAt: 2025-02-03 15:15:29 -0500 (Mon, 03 Feb 2025) EndedAt: 2025-02-03 15:15:40 -0500 (Mon, 03 Feb 2025) EllapsedTime: 10.7 seconds RetCode: 0 Status: OK