Package: RbcBook1 Version: 1.74.0 Command: /Library/Frameworks/R.framework/Resources/bin/R CMD build --keep-empty-dirs --no-resave-data RbcBook1 StartedAt: 2025-02-03 21:32:59 -0500 (Mon, 03 Feb 2025) EndedAt: 2025-02-03 21:33:20 -0500 (Mon, 03 Feb 2025) EllapsedTime: 21.0 seconds RetCode: 0 Status: OK PackageFile: RbcBook1_1.74.0.tar.gz PackageFileSize: 6.412 MiB