Package: RbcBook1 Version: 1.74.0 Command: rm -rf RbcBook1.buildbin-libdir && mkdir RbcBook1.buildbin-libdir && /Users/biocbuild/BBS/utils/build-universal.sh RbcBook1_1.74.0.tar.gz /Library/Frameworks/R.framework/Resources/bin/R RbcBook1.buildbin-libdir StartedAt: 2025-02-04 13:54:44 -0500 (Tue, 04 Feb 2025) EndedAt: 2025-02-04 13:55:01 -0500 (Tue, 04 Feb 2025) EllapsedTime: 17.8 seconds RetCode: 0 Status: OK PackageFile: RbcBook1_1.74.0.tgz PackageFileSize: 6.449 MiB