Package: RbcBook1 Version: 1.74.0 Command: /Library/Frameworks/R.framework/Resources/bin/R CMD INSTALL RbcBook1 StartedAt: 2025-01-27 15:09:02 -0500 (Mon, 27 Jan 2025) EndedAt: 2025-01-27 15:09:07 -0500 (Mon, 27 Jan 2025) EllapsedTime: 5.0 seconds RetCode: 0 Status: OK