Package: Rarr Version: 1.6.0 Command: /home/biocbuild/R/R/bin/R CMD INSTALL Rarr StartedAt: 2025-02-03 20:48:24 -0000 (Mon, 03 Feb 2025) EndedAt: 2025-02-03 20:49:56 -0000 (Mon, 03 Feb 2025) EllapsedTime: 91.6 seconds RetCode: 0 Status: OK